BEGIN:VCALENDAR
VERSION:2.0
PRODID:-//wp-events-plugin.com//7.2.3.1//EN
TZID:Europe/Berlin
X-WR-TIMEZONE:Europe/Berlin
BEGIN:VEVENT
UID:254@sav-bartholomae.de
DTSTART;TZID=Europe/Berlin:20261025T000000
DTEND;TZID=Europe/Berlin:20261025T000000
DTSTAMP:20260104T124222Z
URL:https://sav-bartholomae.de/events/wolfsrudel-wanderung-am-volkmarsberg
 /
SUMMARY:Wolfsrudel - Wanderung am Volkmarsberg
DESCRIPTION:Wir wandern rund um den Volkmarsberg mit gemütlichem Abschluss
  im Kolpinghaus Oberkochen.\n\nWF: Familie Krieger\nTreffpunkt: Wird noch 
 bekannt gegeben
CATEGORIES:Alle Termine,Wolfsrudel
END:VEVENT
BEGIN:VTIMEZONE
TZID:Europe/Berlin
X-LIC-LOCATION:Europe/Berlin
BEGIN:DAYLIGHT
DTSTART:20260329T030000
TZOFFSETFROM:+0100
TZOFFSETTO:+0200
TZNAME:CEST
END:DAYLIGHT
END:VTIMEZONE
END:VCALENDAR