BEGIN:VCALENDAR
VERSION:2.0
PRODID:-//wp-events-plugin.com//7.2.3.1//EN
TZID:Europe/Berlin
X-WR-TIMEZONE:Europe/Berlin
BEGIN:VEVENT
UID:225@sav-bartholomae.de
DTSTART;TZID=Europe/Berlin:20260208T090000
DTEND;TZID=Europe/Berlin:20260208T170000
DTSTAMP:20260216T221844Z
URL:https://sav-bartholomae.de/events/wolfsrudel-faschingswanderung-2/
SUMMARY:Wolfsrudel - Faschingswanderung
DESCRIPTION:Wir machen uns auf den Weg nach Weiler zum Faschingsumzug\n\nTr
 effpunkt: Wird noch bekannt gegeben\n\nWF: Familie Bohn\n
CATEGORIES:Alle Termine,Wolfsrudel
END:VEVENT
BEGIN:VTIMEZONE
TZID:Europe/Berlin
X-LIC-LOCATION:Europe/Berlin
BEGIN:STANDARD
DTSTART:20251026T020000
TZOFFSETFROM:+0200
TZOFFSETTO:+0100
TZNAME:CET
END:STANDARD
END:VTIMEZONE
END:VCALENDAR