BEGIN:VCALENDAR
VERSION:2.0
PRODID:-//wp-events-plugin.com//7.2.3.1//EN
TZID:Europe/Berlin
X-WR-TIMEZONE:Europe/Berlin
BEGIN:VEVENT
UID:262@sav-bartholomae.de
DTSTART;TZID=Europe/Berlin:20260621T100000
DTEND;TZID=Europe/Berlin:20260621T170000
DTSTAMP:20260104T130131Z
URL:https://sav-bartholomae.de/events/wanderfuechse-landesgartenschau-ellw
 angen-alternativ-5-7/
SUMMARY:Wanderfüchse - Landesgartenschau Ellwangen (Alternativ 5.7.)
DESCRIPTION:Wir fahren von Mögglingen aus mit dem Zug nach Ellwangen und l
 assen uns überraschen\, was die LGS uns an dem Tag zu bieten hat.\n\nAlte
 rnativtermin: 5.7.\n\nWF: Fam Langer/Fam Weber\nTreffpunkt: Wird noch beka
 nnt gegeben
END:VEVENT
BEGIN:VTIMEZONE
TZID:Europe/Berlin
X-LIC-LOCATION:Europe/Berlin
BEGIN:DAYLIGHT
DTSTART:20260329T030000
TZOFFSETFROM:+0100
TZOFFSETTO:+0200
TZNAME:CEST
END:DAYLIGHT
END:VTIMEZONE
END:VCALENDAR