BEGIN:VCALENDAR
VERSION:2.0
PRODID:-//wp-events-plugin.com//7.2.3.1//EN
TZID:Europe/Berlin
X-WR-TIMEZONE:Europe/Berlin
BEGIN:VEVENT
UID:138@sav-bartholomae.de
DTSTART;TZID=Europe/Berlin:20250111T140000
DTEND;TZID=Europe/Berlin:20250111T190000
DTSTAMP:20250119T104337Z
URL:https://sav-bartholomae.de/events/lasertag-2/
SUMMARY:Lasertag
DESCRIPTION:Wir treffen uns am Rathaus und fahren dann nach Aalen zum Laser
 tag. Das ist ein Riesenspaß für Groß und Klein. \nNach einer kurzen Ein
 weisung werden wir in Gruppen eingeteilt und das Spiel kann beginnen.\nUnk
 ostenbeitrag: 8€ pro Spiel\nTreffpunkt: 14:00 Uhr Dorfhaus\nWF: Fam. Beh
 ringer
CATEGORIES:Alle Termine,Erdlinge
END:VEVENT
BEGIN:VTIMEZONE
TZID:Europe/Berlin
X-LIC-LOCATION:Europe/Berlin
BEGIN:STANDARD
DTSTART:20241027T020000
TZOFFSETFROM:+0200
TZOFFSETTO:+0100
TZNAME:CET
END:STANDARD
END:VTIMEZONE
END:VCALENDAR