BEGIN:VCALENDAR
VERSION:2.0
PRODID:-//wp-events-plugin.com//7.2.3.1//EN
TZID:Europe/Berlin
X-WR-TIMEZONE:Europe/Berlin
BEGIN:VEVENT
UID:184@sav-bartholomae.de
DTSTART;TZID=Europe/Berlin:20250803T140000
DTEND;TZID=Europe/Berlin:20250803T180000
DTSTAMP:20250824T065757Z
URL:https://sav-bartholomae.de/events/frischlinge-rundweg-durch-den-walder
 lebnispfad-und-maerchenwald-in-gschwend-taennli/
SUMMARY:Frischlinge - Rundweg durch den Walderlebnispfad und Märchenwald i
 n Gschwend "Tännli"
DESCRIPTION:Von dort aus starten wir den Rundweg\, bei welchem uns viele At
 traktionen für Groß und Klein erwarten.\n\nTreffpunkt: Parkplatz am Bade
 see um 14:00 Uhr\nWF: Familie Dambacher
CATEGORIES:Alle Termine,Frischlinge
END:VEVENT
BEGIN:VTIMEZONE
TZID:Europe/Berlin
X-LIC-LOCATION:Europe/Berlin
BEGIN:DAYLIGHT
DTSTART:20250330T030000
TZOFFSETFROM:+0100
TZOFFSETTO:+0200
TZNAME:CEST
END:DAYLIGHT
END:VTIMEZONE
END:VCALENDAR