BEGIN:VCALENDAR
VERSION:2.0
PRODID:-//wp-events-plugin.com//7.2.3.1//EN
TZID:Europe/Berlin
X-WR-TIMEZONE:Europe/Berlin
BEGIN:VEVENT
UID:253@sav-bartholomae.de
DTSTART;TZID=Europe/Berlin:20261011T133000
DTEND;TZID=Europe/Berlin:20261011T170000
DTSTAMP:20260104T131611Z
URL:https://sav-bartholomae.de/events/frischlinge-die-etwas-andere-wanderu
 ng-rund-um-die-weiherwiesen/
SUMMARY:Frischlinge - Die etwas andere Wanderung rund um die Weiherwiesen
DESCRIPTION:Rund um die Weiherwiesen wollen wir mit euch den Wald und die N
 atur entdecken!\nWir lassen den Nachmittag mit der Einkehr in der Gaststä
 tte Tauchenweiler ausklingen!\n\nWF: Familie Nusser/Baur\nTreffpunkt: 13:3
 0 Uhr\, Parkplatz Weiherwiesen
CATEGORIES:Alle Termine,Frischlinge
END:VEVENT
BEGIN:VTIMEZONE
TZID:Europe/Berlin
X-LIC-LOCATION:Europe/Berlin
BEGIN:DAYLIGHT
DTSTART:20260329T030000
TZOFFSETFROM:+0100
TZOFFSETTO:+0200
TZNAME:CEST
END:DAYLIGHT
END:VTIMEZONE
END:VCALENDAR